BEGIN:VCALENDAR
VERSION:2.0
PRODID:-//Cornerstone Church - ECPv6.14.2//NONSGML v1.0//EN
CALSCALE:GREGORIAN
METHOD:PUBLISH
X-WR-CALNAME:Cornerstone Church
X-ORIGINAL-URL:https://effinghamcornerstone.net
X-WR-CALDESC:Events for Cornerstone Church
REFRESH-INTERVAL;VALUE=DURATION:PT1H
X-Robots-Tag:noindex
X-PUBLISHED-TTL:PT1H
BEGIN:VTIMEZONE
TZID:America/Chicago
BEGIN:DAYLIGHT
TZOFFSETFROM:-0600
TZOFFSETTO:-0500
TZNAME:CDT
DTSTART:20230312T080000
END:DAYLIGHT
BEGIN:STANDARD
TZOFFSETFROM:-0500
TZOFFSETTO:-0600
TZNAME:CST
DTSTART:20231105T070000
END:STANDARD
END:VTIMEZONE
BEGIN:VEVENT
DTSTART;TZID=America/Chicago:20230208T183000
DTEND;TZID=America/Chicago:20230208T203000
DTSTAMP:20260423T092803
CREATED:20230125T195950Z
LAST-MODIFIED:20230209T141142Z
UID:101-1675881000-1675888200@effinghamcornerstone.net
SUMMARY:Second Wednesdays
DESCRIPTION:1st-5th Graders are invited to come hang out from 6:30-8:30 pm on the 2nd Wednesday of each month.
URL:https://effinghamcornerstone.net/event/second-wednesdays/
LOCATION:Cornerstone Church\, 3600 S. Banker Street\, Effingham\, IL\, 62401\, United States
CATEGORIES:Groups
ATTACH;FMTTYPE=image/webp:https://effinghamcornerstone.net/wp-content/uploads/2023/01/second-wednesdays.webp
END:VEVENT
BEGIN:VEVENT
DTSTART;TZID=America/Chicago:20230208T183000
DTEND;TZID=America/Chicago:20230208T203000
DTSTAMP:20260423T092803
CREATED:20230206T221230Z
LAST-MODIFIED:20230209T141107Z
UID:660-1675881000-1675888200@effinghamcornerstone.net
SUMMARY:Cornerstone Students
DESCRIPTION:Wednesday nights from September through early May\, everyone from sixth through twelfth grade gather together. \nThese get-togethers (from 6:30 to 8:30 pm) have the perfect balance of hang-out time\, God-time\, and grow-time. Doors open at 6:00 pm if you want a little gym time before things get started. Invite a friend to come along and check it out! \nFor serve opportunities\, click here.
URL:https://effinghamcornerstone.net/event/cornerstone-students/
LOCATION:Cornerstone Church\, 3600 S. Banker Street\, Effingham\, IL\, 62401\, United States
CATEGORIES:Groups
ATTACH;FMTTYPE=image/jpeg:https://effinghamcornerstone.net/wp-content/uploads/2023/02/KidsStudents-Screens-960x540-c-default.jpg
END:VEVENT
BEGIN:VEVENT
DTSTART;TZID=America/Chicago:20230303T133000
DTEND;TZID=America/Chicago:20230303T173000
DTSTAMP:20260423T092803
CREATED:20230206T222724Z
LAST-MODIFIED:20230206T222724Z
UID:679-1677850200-1677864600@effinghamcornerstone.net
SUMMARY:Red Cross Blood Drive
DESCRIPTION:American Red Cross Blood Drive\nFriday\, March 3\, 2023\, from 1:30 pm to 5:30 pm\nCornerstone Church Gym \nAppointments encouraged. Please click the link below to get started! \nPlease share to help promote this much-needed blood drive! Many thanks!!! To schedule an appointment\, please visit https://redcrossblood.org. \nTo invest your time to serve at this event\, please click here!
URL:https://effinghamcornerstone.net/event/red-cross-blood-drive/
LOCATION:Cornerstone Church\, 3600 S. Banker Street\, Effingham\, IL\, 62401\, United States
CATEGORIES:Community
ATTACH;FMTTYPE=image/png:https://effinghamcornerstone.net/wp-content/uploads/2023/02/Blood-Drive-Presentation-169-Facebook-Cover-1-960x540-c-default.png
END:VEVENT
BEGIN:VEVENT
DTSTART;TZID=America/Chicago:20230212T090000
DTEND;TZID=America/Chicago:20230212T100000
DTSTAMP:20260423T092803
CREATED:20230206T221354Z
LAST-MODIFIED:20230630T133131Z
UID:663-1676192400-1676196000@effinghamcornerstone.net
SUMMARY:Sunday Service
DESCRIPTION:You’re invited to worship in person or online every Sunday at 9 am!  Online access is available at Youtube\, Facebook\, and at effinghamcornerstone.net. \nTo invest your time to serve Sundays please click here!
URL:https://effinghamcornerstone.net/event/sunday-service/
LOCATION:Cornerstone Church\, 3600 S. Banker Street\, Effingham\, IL\, 62401\, United States
CATEGORIES:Sunday Service
ATTACH;FMTTYPE=image/jpeg:https://effinghamcornerstone.net/wp-content/uploads/2023/02/Untitled-design-2.jpg
END:VEVENT
BEGIN:VEVENT
DTSTART;TZID=America/Chicago:20230208T183000
DTEND;TZID=America/Chicago:20230208T203000
DTSTAMP:20260423T092803
CREATED:20230125T195950Z
LAST-MODIFIED:20230209T141142Z
UID:101-1675881000-1675888200@effinghamcornerstone.net
SUMMARY:Second Wednesdays
DESCRIPTION:1st-5th Graders are invited to come hang out from 6:30-8:30 pm on the 2nd Wednesday of each month.
URL:https://effinghamcornerstone.net/event/second-wednesdays/
LOCATION:Cornerstone Church\, 3600 S. Banker Street\, Effingham\, IL\, 62401\, United States
CATEGORIES:Groups
ATTACH;FMTTYPE=image/webp:https://effinghamcornerstone.net/wp-content/uploads/2023/01/second-wednesdays.webp
END:VEVENT
BEGIN:VEVENT
DTSTART;TZID=America/Chicago:20230208T183000
DTEND;TZID=America/Chicago:20230208T203000
DTSTAMP:20260423T092803
CREATED:20230206T221230Z
LAST-MODIFIED:20230209T141107Z
UID:660-1675881000-1675888200@effinghamcornerstone.net
SUMMARY:Cornerstone Students
DESCRIPTION:Wednesday nights from September through early May\, everyone from sixth through twelfth grade gather together. \nThese get-togethers (from 6:30 to 8:30 pm) have the perfect balance of hang-out time\, God-time\, and grow-time. Doors open at 6:00 pm if you want a little gym time before things get started. Invite a friend to come along and check it out! \nFor serve opportunities\, click here.
URL:https://effinghamcornerstone.net/event/cornerstone-students/
LOCATION:Cornerstone Church\, 3600 S. Banker Street\, Effingham\, IL\, 62401\, United States
CATEGORIES:Groups
ATTACH;FMTTYPE=image/jpeg:https://effinghamcornerstone.net/wp-content/uploads/2023/02/KidsStudents-Screens-960x540-c-default.jpg
END:VEVENT
BEGIN:VEVENT
DTSTART;TZID=America/Chicago:20230212T090000
DTEND;TZID=America/Chicago:20230212T100000
DTSTAMP:20260423T092803
CREATED:20230206T221354Z
LAST-MODIFIED:20230630T133131Z
UID:663-1676192400-1676196000@effinghamcornerstone.net
SUMMARY:Sunday Service
DESCRIPTION:You’re invited to worship in person or online every Sunday at 9 am!  Online access is available at Youtube\, Facebook\, and at effinghamcornerstone.net. \nTo invest your time to serve Sundays please click here!
URL:https://effinghamcornerstone.net/event/sunday-service/
LOCATION:Cornerstone Church\, 3600 S. Banker Street\, Effingham\, IL\, 62401\, United States
CATEGORIES:Sunday Service
ATTACH;FMTTYPE=image/jpeg:https://effinghamcornerstone.net/wp-content/uploads/2023/02/Untitled-design-2.jpg
END:VEVENT
BEGIN:VEVENT
DTSTART;TZID=America/Chicago:20230312T103000
DTEND;TZID=America/Chicago:20230312T113000
DTSTAMP:20260423T092803
CREATED:20230206T222351Z
LAST-MODIFIED:20230206T222351Z
UID:677-1678617000-1678620600@effinghamcornerstone.net
SUMMARY:CPR Training
DESCRIPTION:Come to Cornerstone Sunday\, February 26th or March 12th at 10:30 AM or 1:30 PM to learn life-saving skills. Price is $20. \nYou also have the opportunity to become CPR certified for an additional $17.50 and receive an American Heart Association certification card. \nUse this form to select the class you would like to attend.
URL:https://effinghamcornerstone.net/event/cpr-training-4/
LOCATION:Cornerstone Church\, 3600 S. Banker Street\, Effingham\, IL\, 62401\, United States
CATEGORIES:Community
ATTACH;FMTTYPE=image/jpeg:https://effinghamcornerstone.net/wp-content/uploads/2023/02/CPR-TRAINING-5-960x540-c-default.jpg
END:VEVENT
BEGIN:VEVENT
DTSTART;TZID=America/Chicago:20230312T133000
DTEND;TZID=America/Chicago:20230312T143000
DTSTAMP:20260423T092803
CREATED:20230206T222323Z
LAST-MODIFIED:20230206T222323Z
UID:675-1678627800-1678631400@effinghamcornerstone.net
SUMMARY:CPR Training
DESCRIPTION:Come to Cornerstone Sunday\, February 26th or March 12th at 10:30 AM or 1:30 PM to learn life-saving skills. Price is $20. \nYou also have the opportunity to become CPR certified for an additional $17.50 and receive an American Heart Association certification card. \nUse this form to select the class you would like to attend.
URL:https://effinghamcornerstone.net/event/cpr-training-3/
LOCATION:Cornerstone Church\, 3600 S. Banker Street\, Effingham\, IL\, 62401\, United States
CATEGORIES:Community
ATTACH;FMTTYPE=image/jpeg:https://effinghamcornerstone.net/wp-content/uploads/2023/02/CPR-TRAINING-5-960x540-c-default.jpg
END:VEVENT
BEGIN:VEVENT
DTSTART;TZID=America/Chicago:20230208T183000
DTEND;TZID=America/Chicago:20230208T203000
DTSTAMP:20260423T092803
CREATED:20230125T195950Z
LAST-MODIFIED:20230209T141142Z
UID:101-1675881000-1675888200@effinghamcornerstone.net
SUMMARY:Second Wednesdays
DESCRIPTION:1st-5th Graders are invited to come hang out from 6:30-8:30 pm on the 2nd Wednesday of each month.
URL:https://effinghamcornerstone.net/event/second-wednesdays/
LOCATION:Cornerstone Church\, 3600 S. Banker Street\, Effingham\, IL\, 62401\, United States
CATEGORIES:Groups
ATTACH;FMTTYPE=image/webp:https://effinghamcornerstone.net/wp-content/uploads/2023/01/second-wednesdays.webp
END:VEVENT
BEGIN:VEVENT
DTSTART;TZID=America/Chicago:20230208T183000
DTEND;TZID=America/Chicago:20230208T203000
DTSTAMP:20260423T092803
CREATED:20230206T221230Z
LAST-MODIFIED:20230209T141107Z
UID:660-1675881000-1675888200@effinghamcornerstone.net
SUMMARY:Cornerstone Students
DESCRIPTION:Wednesday nights from September through early May\, everyone from sixth through twelfth grade gather together. \nThese get-togethers (from 6:30 to 8:30 pm) have the perfect balance of hang-out time\, God-time\, and grow-time. Doors open at 6:00 pm if you want a little gym time before things get started. Invite a friend to come along and check it out! \nFor serve opportunities\, click here.
URL:https://effinghamcornerstone.net/event/cornerstone-students/
LOCATION:Cornerstone Church\, 3600 S. Banker Street\, Effingham\, IL\, 62401\, United States
CATEGORIES:Groups
ATTACH;FMTTYPE=image/jpeg:https://effinghamcornerstone.net/wp-content/uploads/2023/02/KidsStudents-Screens-960x540-c-default.jpg
END:VEVENT
BEGIN:VEVENT
DTSTART;TZID=America/Chicago:20230318T090000
DTEND;TZID=America/Chicago:20230318T140000
DTSTAMP:20260423T092803
CREATED:20230206T222845Z
LAST-MODIFIED:20230206T222845Z
UID:682-1679130000-1679148000@effinghamcornerstone.net
SUMMARY:Ladies' Day
DESCRIPTION:It’s going to be a day full of worship\, encouragement\, and fellowship. \nThe theme is “Be Kind” from Proverbs 16:24 “Kind words are like honey…sweet to the soul and healthy for the body.” \nThere will be several speakers this year to share how they have chosen to be kind in their season of life.  Penny Arnold\, Amy Kemp\, Maria LeCrone\, Debbie Legg\, Brooke Poninski and Abby Schnautz will be bringing some fantastic messages for us! \nKinmundy Christian Church worship team will be leading in worship! \nAgain\, the event is on Saturday\, March 18th. \nDoors open at 8:15am \nSessions begin at 9:00am \nThe day concludes at 2:00pm \n*A light breakfast and lunch will be provided. \n**Childcare will not be provided. \nRegister here!
URL:https://effinghamcornerstone.net/event/ladies-day/
LOCATION:Oil Belt Christian Service Camp\, 555 Park Rd\, Flora\, IL\, 62839\, United States
CATEGORIES:Adults
ATTACH;FMTTYPE=image/jpeg:https://effinghamcornerstone.net/wp-content/uploads/2023/02/Untitled-design-2-960x540-c-default.jpg
END:VEVENT
BEGIN:VEVENT
DTSTART;TZID=America/Chicago:20230212T090000
DTEND;TZID=America/Chicago:20230212T100000
DTSTAMP:20260423T092803
CREATED:20230206T221354Z
LAST-MODIFIED:20230630T133131Z
UID:663-1676192400-1676196000@effinghamcornerstone.net
SUMMARY:Sunday Service
DESCRIPTION:You’re invited to worship in person or online every Sunday at 9 am!  Online access is available at Youtube\, Facebook\, and at effinghamcornerstone.net. \nTo invest your time to serve Sundays please click here!
URL:https://effinghamcornerstone.net/event/sunday-service/
LOCATION:Cornerstone Church\, 3600 S. Banker Street\, Effingham\, IL\, 62401\, United States
CATEGORIES:Sunday Service
ATTACH;FMTTYPE=image/jpeg:https://effinghamcornerstone.net/wp-content/uploads/2023/02/Untitled-design-2.jpg
END:VEVENT
BEGIN:VEVENT
DTSTART;TZID=America/Chicago:20230208T183000
DTEND;TZID=America/Chicago:20230208T203000
DTSTAMP:20260423T092803
CREATED:20230125T195950Z
LAST-MODIFIED:20230209T141142Z
UID:101-1675881000-1675888200@effinghamcornerstone.net
SUMMARY:Second Wednesdays
DESCRIPTION:1st-5th Graders are invited to come hang out from 6:30-8:30 pm on the 2nd Wednesday of each month.
URL:https://effinghamcornerstone.net/event/second-wednesdays/
LOCATION:Cornerstone Church\, 3600 S. Banker Street\, Effingham\, IL\, 62401\, United States
CATEGORIES:Groups
ATTACH;FMTTYPE=image/webp:https://effinghamcornerstone.net/wp-content/uploads/2023/01/second-wednesdays.webp
END:VEVENT
BEGIN:VEVENT
DTSTART;TZID=America/Chicago:20230208T183000
DTEND;TZID=America/Chicago:20230208T203000
DTSTAMP:20260423T092803
CREATED:20230206T221230Z
LAST-MODIFIED:20230209T141107Z
UID:660-1675881000-1675888200@effinghamcornerstone.net
SUMMARY:Cornerstone Students
DESCRIPTION:Wednesday nights from September through early May\, everyone from sixth through twelfth grade gather together. \nThese get-togethers (from 6:30 to 8:30 pm) have the perfect balance of hang-out time\, God-time\, and grow-time. Doors open at 6:00 pm if you want a little gym time before things get started. Invite a friend to come along and check it out! \nFor serve opportunities\, click here.
URL:https://effinghamcornerstone.net/event/cornerstone-students/
LOCATION:Cornerstone Church\, 3600 S. Banker Street\, Effingham\, IL\, 62401\, United States
CATEGORIES:Groups
ATTACH;FMTTYPE=image/jpeg:https://effinghamcornerstone.net/wp-content/uploads/2023/02/KidsStudents-Screens-960x540-c-default.jpg
END:VEVENT
BEGIN:VEVENT
DTSTART;TZID=America/Chicago:20230212T090000
DTEND;TZID=America/Chicago:20230212T100000
DTSTAMP:20260423T092803
CREATED:20230206T221354Z
LAST-MODIFIED:20230630T133131Z
UID:663-1676192400-1676196000@effinghamcornerstone.net
SUMMARY:Sunday Service
DESCRIPTION:You’re invited to worship in person or online every Sunday at 9 am!  Online access is available at Youtube\, Facebook\, and at effinghamcornerstone.net. \nTo invest your time to serve Sundays please click here!
URL:https://effinghamcornerstone.net/event/sunday-service/
LOCATION:Cornerstone Church\, 3600 S. Banker Street\, Effingham\, IL\, 62401\, United States
CATEGORIES:Sunday Service
ATTACH;FMTTYPE=image/jpeg:https://effinghamcornerstone.net/wp-content/uploads/2023/02/Untitled-design-2.jpg
END:VEVENT
BEGIN:VEVENT
DTSTART;TZID=America/Chicago:20230208T183000
DTEND;TZID=America/Chicago:20230208T203000
DTSTAMP:20260423T092803
CREATED:20230125T195950Z
LAST-MODIFIED:20230209T141142Z
UID:101-1675881000-1675888200@effinghamcornerstone.net
SUMMARY:Second Wednesdays
DESCRIPTION:1st-5th Graders are invited to come hang out from 6:30-8:30 pm on the 2nd Wednesday of each month.
URL:https://effinghamcornerstone.net/event/second-wednesdays/
LOCATION:Cornerstone Church\, 3600 S. Banker Street\, Effingham\, IL\, 62401\, United States
CATEGORIES:Groups
ATTACH;FMTTYPE=image/webp:https://effinghamcornerstone.net/wp-content/uploads/2023/01/second-wednesdays.webp
END:VEVENT
BEGIN:VEVENT
DTSTART;TZID=America/Chicago:20230208T183000
DTEND;TZID=America/Chicago:20230208T203000
DTSTAMP:20260423T092803
CREATED:20230206T221230Z
LAST-MODIFIED:20230209T141107Z
UID:660-1675881000-1675888200@effinghamcornerstone.net
SUMMARY:Cornerstone Students
DESCRIPTION:Wednesday nights from September through early May\, everyone from sixth through twelfth grade gather together. \nThese get-togethers (from 6:30 to 8:30 pm) have the perfect balance of hang-out time\, God-time\, and grow-time. Doors open at 6:00 pm if you want a little gym time before things get started. Invite a friend to come along and check it out! \nFor serve opportunities\, click here.
URL:https://effinghamcornerstone.net/event/cornerstone-students/
LOCATION:Cornerstone Church\, 3600 S. Banker Street\, Effingham\, IL\, 62401\, United States
CATEGORIES:Groups
ATTACH;FMTTYPE=image/jpeg:https://effinghamcornerstone.net/wp-content/uploads/2023/02/KidsStudents-Screens-960x540-c-default.jpg
END:VEVENT
END:VCALENDAR