BEGIN:VCALENDAR
VERSION:2.0
PRODID:-//Cornerstone Church - ECPv6.14.2//NONSGML v1.0//EN
CALSCALE:GREGORIAN
METHOD:PUBLISH
X-WR-CALNAME:Cornerstone Church
X-ORIGINAL-URL:https://effinghamcornerstone.net
X-WR-CALDESC:Events for Cornerstone Church
REFRESH-INTERVAL;VALUE=DURATION:PT1H
X-Robots-Tag:noindex
X-PUBLISHED-TTL:PT1H
BEGIN:VTIMEZONE
TZID:America/Chicago
BEGIN:DAYLIGHT
TZOFFSETFROM:-0600
TZOFFSETTO:-0500
TZNAME:CDT
DTSTART:20230312T080000
END:DAYLIGHT
BEGIN:STANDARD
TZOFFSETFROM:-0500
TZOFFSETTO:-0600
TZNAME:CST
DTSTART:20231105T070000
END:STANDARD
END:VTIMEZONE
BEGIN:VEVENT
DTSTART;TZID=America/Chicago:20230212T090000
DTEND;TZID=America/Chicago:20230212T100000
DTSTAMP:20260423T075449
CREATED:20230206T221354Z
LAST-MODIFIED:20230630T133131Z
UID:663-1676192400-1676196000@effinghamcornerstone.net
SUMMARY:Sunday Service
DESCRIPTION:You’re invited to worship in person or online every Sunday at 9 am!  Online access is available at Youtube\, Facebook\, and at effinghamcornerstone.net. \nTo invest your time to serve Sundays please click here!
URL:https://effinghamcornerstone.net/event/sunday-service/
LOCATION:Cornerstone Church\, 3600 S. Banker Street\, Effingham\, IL\, 62401\, United States
CATEGORIES:Sunday Service
ATTACH;FMTTYPE=image/jpeg:https://effinghamcornerstone.net/wp-content/uploads/2023/02/Untitled-design-2.jpg
END:VEVENT
BEGIN:VEVENT
DTSTART;TZID=America/Chicago:20230208T183000
DTEND;TZID=America/Chicago:20230208T203000
DTSTAMP:20260423T075449
CREATED:20230125T195950Z
LAST-MODIFIED:20230209T141142Z
UID:101-1675881000-1675888200@effinghamcornerstone.net
SUMMARY:Second Wednesdays
DESCRIPTION:1st-5th Graders are invited to come hang out from 6:30-8:30 pm on the 2nd Wednesday of each month.
URL:https://effinghamcornerstone.net/event/second-wednesdays/
LOCATION:Cornerstone Church\, 3600 S. Banker Street\, Effingham\, IL\, 62401\, United States
CATEGORIES:Groups
ATTACH;FMTTYPE=image/webp:https://effinghamcornerstone.net/wp-content/uploads/2023/01/second-wednesdays.webp
END:VEVENT
BEGIN:VEVENT
DTSTART;TZID=America/Chicago:20230208T183000
DTEND;TZID=America/Chicago:20230208T203000
DTSTAMP:20260423T075449
CREATED:20230206T221230Z
LAST-MODIFIED:20230209T141107Z
UID:660-1675881000-1675888200@effinghamcornerstone.net
SUMMARY:Cornerstone Students
DESCRIPTION:Wednesday nights from September through early May\, everyone from sixth through twelfth grade gather together. \nThese get-togethers (from 6:30 to 8:30 pm) have the perfect balance of hang-out time\, God-time\, and grow-time. Doors open at 6:00 pm if you want a little gym time before things get started. Invite a friend to come along and check it out! \nFor serve opportunities\, click here.
URL:https://effinghamcornerstone.net/event/cornerstone-students/
LOCATION:Cornerstone Church\, 3600 S. Banker Street\, Effingham\, IL\, 62401\, United States
CATEGORIES:Groups
ATTACH;FMTTYPE=image/jpeg:https://effinghamcornerstone.net/wp-content/uploads/2023/02/KidsStudents-Screens-960x540-c-default.jpg
END:VEVENT
BEGIN:VEVENT
DTSTART;TZID=America/Chicago:20230212T090000
DTEND;TZID=America/Chicago:20230212T100000
DTSTAMP:20260423T075449
CREATED:20230206T221354Z
LAST-MODIFIED:20230630T133131Z
UID:663-1676192400-1676196000@effinghamcornerstone.net
SUMMARY:Sunday Service
DESCRIPTION:You’re invited to worship in person or online every Sunday at 9 am!  Online access is available at Youtube\, Facebook\, and at effinghamcornerstone.net. \nTo invest your time to serve Sundays please click here!
URL:https://effinghamcornerstone.net/event/sunday-service/
LOCATION:Cornerstone Church\, 3600 S. Banker Street\, Effingham\, IL\, 62401\, United States
CATEGORIES:Sunday Service
ATTACH;FMTTYPE=image/jpeg:https://effinghamcornerstone.net/wp-content/uploads/2023/02/Untitled-design-2.jpg
END:VEVENT
BEGIN:VEVENT
DTSTART;TZID=America/Chicago:20230208T183000
DTEND;TZID=America/Chicago:20230208T203000
DTSTAMP:20260423T075449
CREATED:20230125T195950Z
LAST-MODIFIED:20230209T141142Z
UID:101-1675881000-1675888200@effinghamcornerstone.net
SUMMARY:Second Wednesdays
DESCRIPTION:1st-5th Graders are invited to come hang out from 6:30-8:30 pm on the 2nd Wednesday of each month.
URL:https://effinghamcornerstone.net/event/second-wednesdays/
LOCATION:Cornerstone Church\, 3600 S. Banker Street\, Effingham\, IL\, 62401\, United States
CATEGORIES:Groups
ATTACH;FMTTYPE=image/webp:https://effinghamcornerstone.net/wp-content/uploads/2023/01/second-wednesdays.webp
END:VEVENT
BEGIN:VEVENT
DTSTART;TZID=America/Chicago:20230208T183000
DTEND;TZID=America/Chicago:20230208T203000
DTSTAMP:20260423T075449
CREATED:20230206T221230Z
LAST-MODIFIED:20230209T141107Z
UID:660-1675881000-1675888200@effinghamcornerstone.net
SUMMARY:Cornerstone Students
DESCRIPTION:Wednesday nights from September through early May\, everyone from sixth through twelfth grade gather together. \nThese get-togethers (from 6:30 to 8:30 pm) have the perfect balance of hang-out time\, God-time\, and grow-time. Doors open at 6:00 pm if you want a little gym time before things get started. Invite a friend to come along and check it out! \nFor serve opportunities\, click here.
URL:https://effinghamcornerstone.net/event/cornerstone-students/
LOCATION:Cornerstone Church\, 3600 S. Banker Street\, Effingham\, IL\, 62401\, United States
CATEGORIES:Groups
ATTACH;FMTTYPE=image/jpeg:https://effinghamcornerstone.net/wp-content/uploads/2023/02/KidsStudents-Screens-960x540-c-default.jpg
END:VEVENT
BEGIN:VEVENT
DTSTART;TZID=America/Chicago:20230212T090000
DTEND;TZID=America/Chicago:20230212T100000
DTSTAMP:20260423T075449
CREATED:20230206T221354Z
LAST-MODIFIED:20230630T133131Z
UID:663-1676192400-1676196000@effinghamcornerstone.net
SUMMARY:Sunday Service
DESCRIPTION:You’re invited to worship in person or online every Sunday at 9 am!  Online access is available at Youtube\, Facebook\, and at effinghamcornerstone.net. \nTo invest your time to serve Sundays please click here!
URL:https://effinghamcornerstone.net/event/sunday-service/
LOCATION:Cornerstone Church\, 3600 S. Banker Street\, Effingham\, IL\, 62401\, United States
CATEGORIES:Sunday Service
ATTACH;FMTTYPE=image/jpeg:https://effinghamcornerstone.net/wp-content/uploads/2023/02/Untitled-design-2.jpg
END:VEVENT
BEGIN:VEVENT
DTSTART;TZID=America/Chicago:20230208T183000
DTEND;TZID=America/Chicago:20230208T203000
DTSTAMP:20260423T075449
CREATED:20230125T195950Z
LAST-MODIFIED:20230209T141142Z
UID:101-1675881000-1675888200@effinghamcornerstone.net
SUMMARY:Second Wednesdays
DESCRIPTION:1st-5th Graders are invited to come hang out from 6:30-8:30 pm on the 2nd Wednesday of each month.
URL:https://effinghamcornerstone.net/event/second-wednesdays/
LOCATION:Cornerstone Church\, 3600 S. Banker Street\, Effingham\, IL\, 62401\, United States
CATEGORIES:Groups
ATTACH;FMTTYPE=image/webp:https://effinghamcornerstone.net/wp-content/uploads/2023/01/second-wednesdays.webp
END:VEVENT
BEGIN:VEVENT
DTSTART;TZID=America/Chicago:20230208T183000
DTEND;TZID=America/Chicago:20230208T203000
DTSTAMP:20260423T075449
CREATED:20230206T221230Z
LAST-MODIFIED:20230209T141107Z
UID:660-1675881000-1675888200@effinghamcornerstone.net
SUMMARY:Cornerstone Students
DESCRIPTION:Wednesday nights from September through early May\, everyone from sixth through twelfth grade gather together. \nThese get-togethers (from 6:30 to 8:30 pm) have the perfect balance of hang-out time\, God-time\, and grow-time. Doors open at 6:00 pm if you want a little gym time before things get started. Invite a friend to come along and check it out! \nFor serve opportunities\, click here.
URL:https://effinghamcornerstone.net/event/cornerstone-students/
LOCATION:Cornerstone Church\, 3600 S. Banker Street\, Effingham\, IL\, 62401\, United States
CATEGORIES:Groups
ATTACH;FMTTYPE=image/jpeg:https://effinghamcornerstone.net/wp-content/uploads/2023/02/KidsStudents-Screens-960x540-c-default.jpg
END:VEVENT
BEGIN:VEVENT
DTSTART;TZID=America/Chicago:20230212T090000
DTEND;TZID=America/Chicago:20230212T100000
DTSTAMP:20260423T075449
CREATED:20230206T221354Z
LAST-MODIFIED:20230630T133131Z
UID:663-1676192400-1676196000@effinghamcornerstone.net
SUMMARY:Sunday Service
DESCRIPTION:You’re invited to worship in person or online every Sunday at 9 am!  Online access is available at Youtube\, Facebook\, and at effinghamcornerstone.net. \nTo invest your time to serve Sundays please click here!
URL:https://effinghamcornerstone.net/event/sunday-service/
LOCATION:Cornerstone Church\, 3600 S. Banker Street\, Effingham\, IL\, 62401\, United States
CATEGORIES:Sunday Service
ATTACH;FMTTYPE=image/jpeg:https://effinghamcornerstone.net/wp-content/uploads/2023/02/Untitled-design-2.jpg
END:VEVENT
BEGIN:VEVENT
DTSTART;TZID=America/Chicago:20230208T183000
DTEND;TZID=America/Chicago:20230208T203000
DTSTAMP:20260423T075449
CREATED:20230125T195950Z
LAST-MODIFIED:20230209T141142Z
UID:101-1675881000-1675888200@effinghamcornerstone.net
SUMMARY:Second Wednesdays
DESCRIPTION:1st-5th Graders are invited to come hang out from 6:30-8:30 pm on the 2nd Wednesday of each month.
URL:https://effinghamcornerstone.net/event/second-wednesdays/
LOCATION:Cornerstone Church\, 3600 S. Banker Street\, Effingham\, IL\, 62401\, United States
CATEGORIES:Groups
ATTACH;FMTTYPE=image/webp:https://effinghamcornerstone.net/wp-content/uploads/2023/01/second-wednesdays.webp
END:VEVENT
BEGIN:VEVENT
DTSTART;TZID=America/Chicago:20230212T090000
DTEND;TZID=America/Chicago:20230212T100000
DTSTAMP:20260423T075449
CREATED:20230206T221354Z
LAST-MODIFIED:20230630T133131Z
UID:663-1676192400-1676196000@effinghamcornerstone.net
SUMMARY:Sunday Service
DESCRIPTION:You’re invited to worship in person or online every Sunday at 9 am!  Online access is available at Youtube\, Facebook\, and at effinghamcornerstone.net. \nTo invest your time to serve Sundays please click here!
URL:https://effinghamcornerstone.net/event/sunday-service/
LOCATION:Cornerstone Church\, 3600 S. Banker Street\, Effingham\, IL\, 62401\, United States
CATEGORIES:Sunday Service
ATTACH;FMTTYPE=image/jpeg:https://effinghamcornerstone.net/wp-content/uploads/2023/02/Untitled-design-2.jpg
END:VEVENT
END:VCALENDAR