BEGIN:VCALENDAR
VERSION:2.0
PRODID:-//Cornerstone Church - ECPv6.14.2//NONSGML v1.0//EN
CALSCALE:GREGORIAN
METHOD:PUBLISH
X-WR-CALNAME:Cornerstone Church
X-ORIGINAL-URL:https://effinghamcornerstone.net
X-WR-CALDESC:Events for Cornerstone Church
REFRESH-INTERVAL;VALUE=DURATION:PT1H
X-Robots-Tag:noindex
X-PUBLISHED-TTL:PT1H
BEGIN:VTIMEZONE
TZID:America/Chicago
BEGIN:DAYLIGHT
TZOFFSETFROM:-0600
TZOFFSETTO:-0500
TZNAME:CDT
DTSTART:20230312T080000
END:DAYLIGHT
BEGIN:STANDARD
TZOFFSETFROM:-0500
TZOFFSETTO:-0600
TZNAME:CST
DTSTART:20231105T070000
END:STANDARD
END:VTIMEZONE
BEGIN:VEVENT
DTSTART;TZID=America/Chicago:20230212T090000
DTEND;TZID=America/Chicago:20230212T100000
DTSTAMP:20260423T044236
CREATED:20230206T221354Z
LAST-MODIFIED:20230630T133131Z
UID:663-1676192400-1676196000@effinghamcornerstone.net
SUMMARY:Sunday Service
DESCRIPTION:You’re invited to worship in person or online every Sunday at 9 am!  Online access is available at Youtube\, Facebook\, and at effinghamcornerstone.net. \nTo invest your time to serve Sundays please click here!
URL:https://effinghamcornerstone.net/event/sunday-service/
LOCATION:Cornerstone Church\, 3600 S. Banker Street\, Effingham\, IL\, 62401\, United States
CATEGORIES:Sunday Service
ATTACH;FMTTYPE=image/jpeg:https://effinghamcornerstone.net/wp-content/uploads/2023/02/Untitled-design-2.jpg
END:VEVENT
BEGIN:VEVENT
DTSTART;TZID=America/Chicago:20230516T180000
DTEND;TZID=America/Chicago:20230516T203000
DTSTAMP:20260423T044236
CREATED:20230511T151612Z
LAST-MODIFIED:20230511T153818Z
UID:926-1684260000-1684269000@effinghamcornerstone.net
SUMMARY:Cornerstone Softball League
DESCRIPTION:Come watch and cheer on Cornerstone Softball!\nSchedule is listed below. \nIf you are interested in joining the team\, text 833-457-2124. \nMay 9 | 7:30 PM\nMay 16 | 6 PM\nMay 23 | 6 PM & 7:30 PM\nMay 30 | 7:30 PM\nJune 6 | 6 PM\nJune 13 | 6 PM & 7:30 PM\nJune 20 | 7:30 PM\nJune 27 | 6 PM\nJuly 4 | Holiday\, no game\nJuly 11 | 6 PM & 7:30 PM\nJuly 18 | 7:30 PM\nJuly 25 | 6 PM\nAugust 1 | 6 PM & 7:30 PM\nAugust 8 | 7:30 PM\nAugust 15 | 6 PM
URL:https://effinghamcornerstone.net/event/cornestone-softball-league/
LOCATION:Hendelmeyer Park\, 1906 S 4th St\, Effingham\, IL\, 62401\, United States
CATEGORIES:Groups
ATTACH;FMTTYPE=image/jpeg:https://effinghamcornerstone.net/wp-content/uploads/2023/05/Text-softball-to-833-457-2124.jpg
END:VEVENT
BEGIN:VEVENT
DTSTART;TZID=America/Chicago:20230606T180000
DTEND;TZID=America/Chicago:20230606T203000
DTSTAMP:20260423T044236
CREATED:20230511T160748Z
LAST-MODIFIED:20230511T162521Z
UID:950-1686074400-1686083400@effinghamcornerstone.net
SUMMARY:Rooted 2.0 - Theology and the Mission of God
DESCRIPTION:Welcome to The Theology and the Mission of God!\n\nTheology and the Mission of God is an 8-week\, group-discipleship experience focused on the study and application of core doctrines of the Christian Faith.\nBeginning June 6th from 6 – 8:30 PM.\n\nWeekly Sessions:\n1 – We Love God the Father\n2 – We Love God the Son\n3 – We Love God the Holy Spirit\n4 – We love God’s Word\n5 – We Love God’s World\n6 – We Love the Gospel of God\n7 – We Love the People of God\n\n8 – We Love the Mission of God \nSave your spot here! Registration ends Wednesday\, May 17th. \n* Child care available
URL:https://effinghamcornerstone.net/event/rooted-2-0-theology-and-the-mission-of-god/
LOCATION:Cornerstone Church\, 3600 S. Banker Street\, Effingham\, IL\, 62401\, United States
CATEGORIES:Community
ATTACH;FMTTYPE=image/jpeg:https://effinghamcornerstone.net/wp-content/uploads/2023/05/Rooted-2.0.jpg
END:VEVENT
BEGIN:VEVENT
DTSTART;TZID=America/Chicago:20230212T090000
DTEND;TZID=America/Chicago:20230212T100000
DTSTAMP:20260423T044236
CREATED:20230206T221354Z
LAST-MODIFIED:20230630T133131Z
UID:663-1676192400-1676196000@effinghamcornerstone.net
SUMMARY:Sunday Service
DESCRIPTION:You’re invited to worship in person or online every Sunday at 9 am!  Online access is available at Youtube\, Facebook\, and at effinghamcornerstone.net. \nTo invest your time to serve Sundays please click here!
URL:https://effinghamcornerstone.net/event/sunday-service/
LOCATION:Cornerstone Church\, 3600 S. Banker Street\, Effingham\, IL\, 62401\, United States
CATEGORIES:Sunday Service
ATTACH;FMTTYPE=image/jpeg:https://effinghamcornerstone.net/wp-content/uploads/2023/02/Untitled-design-2.jpg
END:VEVENT
BEGIN:VEVENT
DTSTART;TZID=America/Chicago:20230612T183000
DTEND;TZID=America/Chicago:20230612T200000
DTSTAMP:20260423T044236
CREATED:20230511T162943Z
LAST-MODIFIED:20230511T162943Z
UID:962-1686594600-1686600000@effinghamcornerstone.net
SUMMARY:Helping Helpers
DESCRIPTION:Do you or your friends\, co-workers\, or family members struggle with anxiety\, grief\, trauma\, shame or addiction?   Maybe you just can’t find the right thing to say? Would you like to help\, but you’re just not sure how?  Check this out! \nShare The Struggle is a non-profit organization that seeks to showcase God’s redemptive power through media. Their hope is to follow Jesus’ example of binding up the brokenhearted and meeting struggling people where they are at. They do this by bringing churches around the globe world-class resources that connect people to their local church\, build Christ-centered communities\, and tackle the most pressing emotional and mental health needs. \nThe “Helping Helpers” course will give you wisdom on how to come alongside someone in the midst of their struggles.  There’s no more strategic avenue for evangelism and discipleship than through someone’s deepest “pain point”. We believe the mental health crisis is the mission of our decade. \nWeeks 1-5 will teach practical skills to listen and respond well.  The following weeks will drill down on specific struggles. \nStarts Monday\, June 12 from 6:30 – 8:00 pm –  The cost is $35 per person. \nThe “pain point” we’ll learn about include: \n\nAnxiety\nGrief\nTrauma\nShame\nAddiction\n\nAfter the first five weeks\, the length\, of course\, is dependent upon the specific interests/needs of the group. \nAs we look to our cultural landscape\, we can’t deny the church has been called to follow Jesus’ example of healing the wounded\, or\, as we like to call it\, binding up the brokenhearted. This is why Share the Struggle connects people who are struggling with world-class Christian experts in their courses. It’s here that Christ-centered community is created\, and the journey of healing can begin — as the church is equipped and trained to meet people where they are at. \nWe believe Share the Struggle courses need to be in every church so that we’re able to meet the needs of our hurting world. That’s why the mission is to raise up group leaders in the church and train staff and volunteers to engage with struggles. \nSign up here! \nQuestions? Email admin at effinghamcornerstone.net or call 217-342-6770.
URL:https://effinghamcornerstone.net/event/helping-helpers/
LOCATION:Cornerstone Church\, 3600 S. Banker Street\, Effingham\, IL\, 62401\, United States
CATEGORIES:Community
ATTACH;FMTTYPE=image/jpeg:https://effinghamcornerstone.net/wp-content/uploads/2023/05/Copy-of-Copy-of-Course-Covers-Match-Workbooks-2.jpg
END:VEVENT
BEGIN:VEVENT
DTSTART;TZID=America/Chicago:20230613T180000
DTEND;TZID=America/Chicago:20230613T210000
DTSTAMP:20260423T044236
CREATED:20230511T155247Z
LAST-MODIFIED:20230511T155248Z
UID:940-1686679200-1686690000@effinghamcornerstone.net
SUMMARY:Cornerstone Softball League
DESCRIPTION:Come watch and cheer on Cornerstone Softball!\nSchedule is listed below. \nIf you are interested in joining the team\, text 833-457-2124. \nMay 9 | 7:30 PM\nMay 16 | 6 PM\nMay 23 | 6 PM & 7:30 PM\nMay 30 | 7:30 PM\nJune 6 | 6 PM\nJune 13 | 6 PM & 7:30 PM\nJune 20 | 7:30 PM\nJune 27 | 6 PM\nJuly 4 | Holiday\, no game\nJuly 11 | 6 PM & 7:30 PM\nJuly 18 | 7:30 PM\nJuly 25 | 6 PM\nAugust 1 | 6 PM & 7:30 PM\nAugust 8 | 7:30 PM\nAugust 15 | 6 PM
URL:https://effinghamcornerstone.net/event/cornestone-softball-league-5/
LOCATION:Hendelmeyer Park\, 1906 S 4th St\, Effingham\, IL\, 62401\, United States
CATEGORIES:Groups
ATTACH;FMTTYPE=image/jpeg:https://effinghamcornerstone.net/wp-content/uploads/2023/05/Text-softball-to-833-457-2124.jpg
END:VEVENT
BEGIN:VEVENT
DTSTART;TZID=America/Chicago:20230212T090000
DTEND;TZID=America/Chicago:20230212T100000
DTSTAMP:20260423T044236
CREATED:20230206T221354Z
LAST-MODIFIED:20230630T133131Z
UID:663-1676192400-1676196000@effinghamcornerstone.net
SUMMARY:Sunday Service
DESCRIPTION:You’re invited to worship in person or online every Sunday at 9 am!  Online access is available at Youtube\, Facebook\, and at effinghamcornerstone.net. \nTo invest your time to serve Sundays please click here!
URL:https://effinghamcornerstone.net/event/sunday-service/
LOCATION:Cornerstone Church\, 3600 S. Banker Street\, Effingham\, IL\, 62401\, United States
CATEGORIES:Sunday Service
ATTACH;FMTTYPE=image/jpeg:https://effinghamcornerstone.net/wp-content/uploads/2023/02/Untitled-design-2.jpg
END:VEVENT
BEGIN:VEVENT
DTSTART;TZID=America/Chicago:20230620T193000
DTEND;TZID=America/Chicago:20230620T210000
DTSTAMP:20260423T044236
CREATED:20230511T153040Z
LAST-MODIFIED:20230511T154348Z
UID:934-1687289400-1687294800@effinghamcornerstone.net
SUMMARY:Cornerstone Softball League
DESCRIPTION:Come watch and cheer on Cornerstone Softball!\nSchedule is listed below. \nIf you are interested in joining the team\, text 833-457-2124. \nMay 9 | 7:30 PM\nMay 16 | 6 PM\nMay 23 | 6 PM & 7:30 PM\nMay 30 | 7:30 PM\nJune 6 | 6 PM\nJune 13 | 6 PM & 7:30 PM\nJune 20 | 7:30 PM\nJune 27 | 6 PM\nJuly 4 | Holiday\, no game\nJuly 11 | 6 PM & 7:30 PM\nJuly 18 | 7:30 PM\nJuly 25 | 6 PM\nAugust 1 | 6 PM & 7:30 PM\nAugust 8 | 7:30 PM\nAugust 15 | 6 PM
URL:https://effinghamcornerstone.net/event/cornestone-softball-league-3/
LOCATION:Hendelmeyer Park\, 1906 S 4th St\, Effingham\, IL\, 62401\, United States
CATEGORIES:Groups
ATTACH;FMTTYPE=image/jpeg:https://effinghamcornerstone.net/wp-content/uploads/2023/05/Text-softball-to-833-457-2124.jpg
END:VEVENT
BEGIN:VEVENT
DTSTART;TZID=America/Chicago:20230212T090000
DTEND;TZID=America/Chicago:20230212T100000
DTSTAMP:20260423T044236
CREATED:20230206T221354Z
LAST-MODIFIED:20230630T133131Z
UID:663-1676192400-1676196000@effinghamcornerstone.net
SUMMARY:Sunday Service
DESCRIPTION:You’re invited to worship in person or online every Sunday at 9 am!  Online access is available at Youtube\, Facebook\, and at effinghamcornerstone.net. \nTo invest your time to serve Sundays please click here!
URL:https://effinghamcornerstone.net/event/sunday-service/
LOCATION:Cornerstone Church\, 3600 S. Banker Street\, Effingham\, IL\, 62401\, United States
CATEGORIES:Sunday Service
ATTACH;FMTTYPE=image/jpeg:https://effinghamcornerstone.net/wp-content/uploads/2023/02/Untitled-design-2.jpg
END:VEVENT
BEGIN:VEVENT
DTSTART;TZID=America/Chicago:20230625T103000
DTEND;TZID=America/Chicago:20230625T130000
DTSTAMP:20260423T044236
CREATED:20230622T162013Z
LAST-MODIFIED:20230622T162118Z
UID:1111-1687689000-1687698000@effinghamcornerstone.net
SUMMARY:All In Prayer Experience
DESCRIPTION:“All In. Merriam-Webster defines “All In” as “fully committed to or involved in something.” If something is worth doing\, don’t you want to be All In? Here at Cornerstone\, when you hear the phrase All In\, it’s also your queue that it’s for YOU\, for EVERYONE\, for ANYONE\, and all are welcome\, invited\, and wanted! \n\nIf you have previously been through Rooted and would like to attend the Prayer Experience from 10:30-1 on 6/25\, please fill out this form. The $10 registration fee covers the cost of your lunch.\n\nIf you have any questions\, visit effinghamcornerstone.net\, reach out by email to admin@effinghamcornerstone.net\, or call the church office
URL:https://effinghamcornerstone.net/event/all-in-prayer-experience/
LOCATION:IL
CATEGORIES:Community
ATTACH;FMTTYPE=image/jpeg:https://effinghamcornerstone.net/wp-content/uploads/2023/06/All-In-Graphics.jpg
END:VEVENT
BEGIN:VEVENT
DTSTART;TZID=America/Chicago:20230516T180000
DTEND;TZID=America/Chicago:20230516T203000
DTSTAMP:20260423T044236
CREATED:20230511T151612Z
LAST-MODIFIED:20230511T153818Z
UID:926-1684260000-1684269000@effinghamcornerstone.net
SUMMARY:Cornerstone Softball League
DESCRIPTION:Come watch and cheer on Cornerstone Softball!\nSchedule is listed below. \nIf you are interested in joining the team\, text 833-457-2124. \nMay 9 | 7:30 PM\nMay 16 | 6 PM\nMay 23 | 6 PM & 7:30 PM\nMay 30 | 7:30 PM\nJune 6 | 6 PM\nJune 13 | 6 PM & 7:30 PM\nJune 20 | 7:30 PM\nJune 27 | 6 PM\nJuly 4 | Holiday\, no game\nJuly 11 | 6 PM & 7:30 PM\nJuly 18 | 7:30 PM\nJuly 25 | 6 PM\nAugust 1 | 6 PM & 7:30 PM\nAugust 8 | 7:30 PM\nAugust 15 | 6 PM
URL:https://effinghamcornerstone.net/event/cornestone-softball-league/
LOCATION:Hendelmeyer Park\, 1906 S 4th St\, Effingham\, IL\, 62401\, United States
CATEGORIES:Groups
ATTACH;FMTTYPE=image/jpeg:https://effinghamcornerstone.net/wp-content/uploads/2023/05/Text-softball-to-833-457-2124.jpg
END:VEVENT
END:VCALENDAR