BEGIN:VCALENDAR
VERSION:2.0
PRODID:-//Cornerstone Church - ECPv6.14.2//NONSGML v1.0//EN
CALSCALE:GREGORIAN
METHOD:PUBLISH
X-ORIGINAL-URL:https://effinghamcornerstone.net
X-WR-CALDESC:Events for Cornerstone Church
REFRESH-INTERVAL;VALUE=DURATION:PT1H
X-Robots-Tag:noindex
X-PUBLISHED-TTL:PT1H
BEGIN:VTIMEZONE
TZID:America/Chicago
BEGIN:DAYLIGHT
TZOFFSETFROM:-0600
TZOFFSETTO:-0500
TZNAME:CDT
DTSTART:20230312T080000
END:DAYLIGHT
BEGIN:STANDARD
TZOFFSETFROM:-0500
TZOFFSETTO:-0600
TZNAME:CST
DTSTART:20231105T070000
END:STANDARD
END:VTIMEZONE
BEGIN:VEVENT
DTSTART;TZID=America/Chicago:20230212T090000
DTEND;TZID=America/Chicago:20230212T100000
DTSTAMP:20260423T030924
CREATED:20230206T221354Z
LAST-MODIFIED:20230630T133131Z
UID:663-1676192400-1676196000@effinghamcornerstone.net
SUMMARY:Sunday Service
DESCRIPTION:You’re invited to worship in person or online every Sunday at 9 am!  Online access is available at Youtube\, Facebook\, and at effinghamcornerstone.net. \nTo invest your time to serve Sundays please click here!
URL:https://effinghamcornerstone.net/event/sunday-service/
LOCATION:Cornerstone Church\, 3600 S. Banker Street\, Effingham\, IL\, 62401\, United States
CATEGORIES:Sunday Service
ATTACH;FMTTYPE=image/jpeg:https://effinghamcornerstone.net/wp-content/uploads/2023/02/Untitled-design-2.jpg
END:VEVENT
BEGIN:VEVENT
DTSTART;TZID=America/Chicago:20230212T090000
DTEND;TZID=America/Chicago:20230212T100000
DTSTAMP:20260423T030924
CREATED:20230206T221354Z
LAST-MODIFIED:20230630T133131Z
UID:663-1676192400-1676196000@effinghamcornerstone.net
SUMMARY:Sunday Service
DESCRIPTION:You’re invited to worship in person or online every Sunday at 9 am!  Online access is available at Youtube\, Facebook\, and at effinghamcornerstone.net. \nTo invest your time to serve Sundays please click here!
URL:https://effinghamcornerstone.net/event/sunday-service/
LOCATION:Cornerstone Church\, 3600 S. Banker Street\, Effingham\, IL\, 62401\, United States
CATEGORIES:Sunday Service
ATTACH;FMTTYPE=image/jpeg:https://effinghamcornerstone.net/wp-content/uploads/2023/02/Untitled-design-2.jpg
END:VEVENT
BEGIN:VEVENT
DTSTART;TZID=America/Chicago:20230711T180000
DTEND;TZID=America/Chicago:20230711T210000
DTSTAMP:20260423T030924
CREATED:20230511T155346Z
LAST-MODIFIED:20230511T155346Z
UID:942-1689098400-1689109200@effinghamcornerstone.net
SUMMARY:Cornerstone Softball League
DESCRIPTION:Come watch and cheer on Cornerstone Softball!\nSchedule is listed below. \nIf you are interested in joining the team\, text 833-457-2124. \nMay 9 | 7:30 PM\nMay 16 | 6 PM\nMay 23 | 6 PM & 7:30 PM\nMay 30 | 7:30 PM\nJune 6 | 6 PM\nJune 13 | 6 PM & 7:30 PM\nJune 20 | 7:30 PM\nJune 27 | 6 PM\nJuly 4 | Holiday\, no game\nJuly 11 | 6 PM & 7:30 PM\nJuly 18 | 7:30 PM\nJuly 25 | 6 PM\nAugust 1 | 6 PM & 7:30 PM\nAugust 8 | 7:30 PM\nAugust 15 | 6 PM
URL:https://effinghamcornerstone.net/event/cornestone-softball-league-6/
LOCATION:Hendelmeyer Park\, 1906 S 4th St\, Effingham\, IL\, 62401\, United States
CATEGORIES:Groups
ATTACH;FMTTYPE=image/jpeg:https://effinghamcornerstone.net/wp-content/uploads/2023/05/Text-softball-to-833-457-2124.jpg
END:VEVENT
BEGIN:VEVENT
DTSTART;TZID=America/Chicago:20230212T090000
DTEND;TZID=America/Chicago:20230212T100000
DTSTAMP:20260423T030924
CREATED:20230206T221354Z
LAST-MODIFIED:20230630T133131Z
UID:663-1676192400-1676196000@effinghamcornerstone.net
SUMMARY:Sunday Service
DESCRIPTION:You’re invited to worship in person or online every Sunday at 9 am!  Online access is available at Youtube\, Facebook\, and at effinghamcornerstone.net. \nTo invest your time to serve Sundays please click here!
URL:https://effinghamcornerstone.net/event/sunday-service/
LOCATION:Cornerstone Church\, 3600 S. Banker Street\, Effingham\, IL\, 62401\, United States
CATEGORIES:Sunday Service
ATTACH;FMTTYPE=image/jpeg:https://effinghamcornerstone.net/wp-content/uploads/2023/02/Untitled-design-2.jpg
END:VEVENT
BEGIN:VEVENT
DTSTART;TZID=America/Chicago:20230717T180000
DTEND;TZID=America/Chicago:20230717T201500
DTSTAMP:20260423T030924
CREATED:20230516T153315Z
LAST-MODIFIED:20230516T155105Z
UID:1001-1689616800-1689624900@effinghamcornerstone.net
SUMMARY:Vacation Bible School 2023
DESCRIPTION:Vacation Bible School 2022 is coming nightly July 17-20 from 6 to 8:15 pm. \nShine Jesus’ Light! \nGear up for a  cosmic quest where you’ll have a blast shining Jesus’ light to the world. Stellar rockets kids on an out-of-this-world adventure that’s light years of faith-building fun. \nRegistration is open now! Click here to register kids ages 3 years through 8th grade. High school and above? Click here to jump in and partner with Cornerstone to make it happen! It’s a fun-filled week for everyone! \nThis year’s Mission \nOil Belt Christian Service Camp
URL:https://effinghamcornerstone.net/event/vacation-bible-school-2023/
LOCATION:IL
CATEGORIES:Community
ATTACH;FMTTYPE=image/jpeg:https://effinghamcornerstone.net/wp-content/uploads/2023/05/VBS-2023-Facebook-Cover.jpg
END:VEVENT
BEGIN:VEVENT
DTSTART;TZID=America/Chicago:20230718T193000
DTEND;TZID=America/Chicago:20230718T210000
DTSTAMP:20260423T030924
CREATED:20230511T155457Z
LAST-MODIFIED:20230511T155458Z
UID:944-1689708600-1689714000@effinghamcornerstone.net
SUMMARY:Cornerstone Softball League
DESCRIPTION:Come watch and cheer on Cornerstone Softball!\nSchedule is listed below. \nIf you are interested in joining the team\, text 833-457-2124. \nMay 9 | 7:30 PM\nMay 16 | 6 PM\nMay 23 | 6 PM & 7:30 PM\nMay 30 | 7:30 PM\nJune 6 | 6 PM\nJune 13 | 6 PM & 7:30 PM\nJune 20 | 7:30 PM\nJune 27 | 6 PM\nJuly 4 | Holiday\, no game\nJuly 11 | 6 PM & 7:30 PM\nJuly 18 | 7:30 PM\nJuly 25 | 6 PM\nAugust 1 | 6 PM & 7:30 PM\nAugust 8 | 7:30 PM\nAugust 15 | 6 PM
URL:https://effinghamcornerstone.net/event/cornestone-softball-league-7/
LOCATION:Hendelmeyer Park\, 1906 S 4th St\, Effingham\, IL\, 62401\, United States
CATEGORIES:Groups
ATTACH;FMTTYPE=image/jpeg:https://effinghamcornerstone.net/wp-content/uploads/2023/05/Text-softball-to-833-457-2124.jpg
END:VEVENT
BEGIN:VEVENT
DTSTART;TZID=America/Chicago:20230212T090000
DTEND;TZID=America/Chicago:20230212T100000
DTSTAMP:20260423T030924
CREATED:20230206T221354Z
LAST-MODIFIED:20230630T133131Z
UID:663-1676192400-1676196000@effinghamcornerstone.net
SUMMARY:Sunday Service
DESCRIPTION:You’re invited to worship in person or online every Sunday at 9 am!  Online access is available at Youtube\, Facebook\, and at effinghamcornerstone.net. \nTo invest your time to serve Sundays please click here!
URL:https://effinghamcornerstone.net/event/sunday-service/
LOCATION:Cornerstone Church\, 3600 S. Banker Street\, Effingham\, IL\, 62401\, United States
CATEGORIES:Sunday Service
ATTACH;FMTTYPE=image/jpeg:https://effinghamcornerstone.net/wp-content/uploads/2023/02/Untitled-design-2.jpg
END:VEVENT
BEGIN:VEVENT
DTSTART;TZID=America/Chicago:20230516T180000
DTEND;TZID=America/Chicago:20230516T203000
DTSTAMP:20260423T030924
CREATED:20230511T151612Z
LAST-MODIFIED:20230511T153818Z
UID:926-1684260000-1684269000@effinghamcornerstone.net
SUMMARY:Cornerstone Softball League
DESCRIPTION:Come watch and cheer on Cornerstone Softball!\nSchedule is listed below. \nIf you are interested in joining the team\, text 833-457-2124. \nMay 9 | 7:30 PM\nMay 16 | 6 PM\nMay 23 | 6 PM & 7:30 PM\nMay 30 | 7:30 PM\nJune 6 | 6 PM\nJune 13 | 6 PM & 7:30 PM\nJune 20 | 7:30 PM\nJune 27 | 6 PM\nJuly 4 | Holiday\, no game\nJuly 11 | 6 PM & 7:30 PM\nJuly 18 | 7:30 PM\nJuly 25 | 6 PM\nAugust 1 | 6 PM & 7:30 PM\nAugust 8 | 7:30 PM\nAugust 15 | 6 PM
URL:https://effinghamcornerstone.net/event/cornestone-softball-league/
LOCATION:Hendelmeyer Park\, 1906 S 4th St\, Effingham\, IL\, 62401\, United States
CATEGORIES:Groups
ATTACH;FMTTYPE=image/jpeg:https://effinghamcornerstone.net/wp-content/uploads/2023/05/Text-softball-to-833-457-2124.jpg
END:VEVENT
BEGIN:VEVENT
DTSTART;TZID=America/Chicago:20230212T090000
DTEND;TZID=America/Chicago:20230212T100000
DTSTAMP:20260423T030924
CREATED:20230206T221354Z
LAST-MODIFIED:20230630T133131Z
UID:663-1676192400-1676196000@effinghamcornerstone.net
SUMMARY:Sunday Service
DESCRIPTION:You’re invited to worship in person or online every Sunday at 9 am!  Online access is available at Youtube\, Facebook\, and at effinghamcornerstone.net. \nTo invest your time to serve Sundays please click here!
URL:https://effinghamcornerstone.net/event/sunday-service/
LOCATION:Cornerstone Church\, 3600 S. Banker Street\, Effingham\, IL\, 62401\, United States
CATEGORIES:Sunday Service
ATTACH;FMTTYPE=image/jpeg:https://effinghamcornerstone.net/wp-content/uploads/2023/02/Untitled-design-2.jpg
END:VEVENT
END:VCALENDAR