BEGIN:VCALENDAR
VERSION:2.0
PRODID:-//Cornerstone Church - ECPv6.14.2//NONSGML v1.0//EN
CALSCALE:GREGORIAN
METHOD:PUBLISH
X-WR-CALNAME:Cornerstone Church
X-ORIGINAL-URL:https://effinghamcornerstone.net
X-WR-CALDESC:Events for Cornerstone Church
REFRESH-INTERVAL;VALUE=DURATION:PT1H
X-Robots-Tag:noindex
X-PUBLISHED-TTL:PT1H
BEGIN:VTIMEZONE
TZID:America/Chicago
BEGIN:DAYLIGHT
TZOFFSETFROM:-0600
TZOFFSETTO:-0500
TZNAME:CDT
DTSTART:20230312T080000
END:DAYLIGHT
BEGIN:STANDARD
TZOFFSETFROM:-0500
TZOFFSETTO:-0600
TZNAME:CST
DTSTART:20231105T070000
END:STANDARD
END:VTIMEZONE
BEGIN:VEVENT
DTSTART;TZID=America/Chicago:20230516T180000
DTEND;TZID=America/Chicago:20230516T203000
DTSTAMP:20260423T014309
CREATED:20230511T151612Z
LAST-MODIFIED:20230511T153818Z
UID:926-1684260000-1684269000@effinghamcornerstone.net
SUMMARY:Cornerstone Softball League
DESCRIPTION:Come watch and cheer on Cornerstone Softball!\nSchedule is listed below. \nIf you are interested in joining the team\, text 833-457-2124. \nMay 9 | 7:30 PM\nMay 16 | 6 PM\nMay 23 | 6 PM & 7:30 PM\nMay 30 | 7:30 PM\nJune 6 | 6 PM\nJune 13 | 6 PM & 7:30 PM\nJune 20 | 7:30 PM\nJune 27 | 6 PM\nJuly 4 | Holiday\, no game\nJuly 11 | 6 PM & 7:30 PM\nJuly 18 | 7:30 PM\nJuly 25 | 6 PM\nAugust 1 | 6 PM & 7:30 PM\nAugust 8 | 7:30 PM\nAugust 15 | 6 PM
URL:https://effinghamcornerstone.net/event/cornestone-softball-league/
LOCATION:Hendelmeyer Park\, 1906 S 4th St\, Effingham\, IL\, 62401\, United States
CATEGORIES:Groups
ATTACH;FMTTYPE=image/jpeg:https://effinghamcornerstone.net/wp-content/uploads/2023/05/Text-softball-to-833-457-2124.jpg
END:VEVENT
BEGIN:VEVENT
DTSTART;TZID=America/Chicago:20230212T090000
DTEND;TZID=America/Chicago:20230212T100000
DTSTAMP:20260423T014309
CREATED:20230206T221354Z
LAST-MODIFIED:20230630T133131Z
UID:663-1676192400-1676196000@effinghamcornerstone.net
SUMMARY:Sunday Service
DESCRIPTION:You’re invited to worship in person or online every Sunday at 9 am!  Online access is available at Youtube\, Facebook\, and at effinghamcornerstone.net. \nTo invest your time to serve Sundays please click here!
URL:https://effinghamcornerstone.net/event/sunday-service/
LOCATION:Cornerstone Church\, 3600 S. Banker Street\, Effingham\, IL\, 62401\, United States
CATEGORIES:Sunday Service
ATTACH;FMTTYPE=image/jpeg:https://effinghamcornerstone.net/wp-content/uploads/2023/02/Untitled-design-2.jpg
END:VEVENT
BEGIN:VEVENT
DTSTART;TZID=America/Chicago:20230808T193000
DTEND;TZID=America/Chicago:20230808T210000
DTSTAMP:20260423T014309
CREATED:20230511T155607Z
LAST-MODIFIED:20230511T155608Z
UID:946-1691523000-1691528400@effinghamcornerstone.net
SUMMARY:Cornerstone Softball League
DESCRIPTION:Come watch and cheer on Cornerstone Softball!\nSchedule is listed below. \nIf you are interested in joining the team\, text 833-457-2124. \nMay 9 | 7:30 PM\nMay 16 | 6 PM\nMay 23 | 6 PM & 7:30 PM\nMay 30 | 7:30 PM\nJune 6 | 6 PM\nJune 13 | 6 PM & 7:30 PM\nJune 20 | 7:30 PM\nJune 27 | 6 PM\nJuly 4 | Holiday\, no game\nJuly 11 | 6 PM & 7:30 PM\nJuly 18 | 7:30 PM\nJuly 25 | 6 PM\nAugust 1 | 6 PM & 7:30 PM\nAugust 8 | 7:30 PM\nAugust 15 | 6 PM
URL:https://effinghamcornerstone.net/event/cornestone-softball-league-8/
LOCATION:Hendelmeyer Park\, 1906 S 4th St\, Effingham\, IL\, 62401\, United States
CATEGORIES:Groups
ATTACH;FMTTYPE=image/jpeg:https://effinghamcornerstone.net/wp-content/uploads/2023/05/Text-softball-to-833-457-2124.jpg
END:VEVENT
BEGIN:VEVENT
DTSTART;TZID=America/Chicago:20230212T090000
DTEND;TZID=America/Chicago:20230212T100000
DTSTAMP:20260423T014309
CREATED:20230206T221354Z
LAST-MODIFIED:20230630T133131Z
UID:663-1676192400-1676196000@effinghamcornerstone.net
SUMMARY:Sunday Service
DESCRIPTION:You’re invited to worship in person or online every Sunday at 9 am!  Online access is available at Youtube\, Facebook\, and at effinghamcornerstone.net. \nTo invest your time to serve Sundays please click here!
URL:https://effinghamcornerstone.net/event/sunday-service/
LOCATION:Cornerstone Church\, 3600 S. Banker Street\, Effingham\, IL\, 62401\, United States
CATEGORIES:Sunday Service
ATTACH;FMTTYPE=image/jpeg:https://effinghamcornerstone.net/wp-content/uploads/2023/02/Untitled-design-2.jpg
END:VEVENT
BEGIN:VEVENT
DTSTART;TZID=America/Chicago:20230516T180000
DTEND;TZID=America/Chicago:20230516T203000
DTSTAMP:20260423T014309
CREATED:20230511T151612Z
LAST-MODIFIED:20230511T153818Z
UID:926-1684260000-1684269000@effinghamcornerstone.net
SUMMARY:Cornerstone Softball League
DESCRIPTION:Come watch and cheer on Cornerstone Softball!\nSchedule is listed below. \nIf you are interested in joining the team\, text 833-457-2124. \nMay 9 | 7:30 PM\nMay 16 | 6 PM\nMay 23 | 6 PM & 7:30 PM\nMay 30 | 7:30 PM\nJune 6 | 6 PM\nJune 13 | 6 PM & 7:30 PM\nJune 20 | 7:30 PM\nJune 27 | 6 PM\nJuly 4 | Holiday\, no game\nJuly 11 | 6 PM & 7:30 PM\nJuly 18 | 7:30 PM\nJuly 25 | 6 PM\nAugust 1 | 6 PM & 7:30 PM\nAugust 8 | 7:30 PM\nAugust 15 | 6 PM
URL:https://effinghamcornerstone.net/event/cornestone-softball-league/
LOCATION:Hendelmeyer Park\, 1906 S 4th St\, Effingham\, IL\, 62401\, United States
CATEGORIES:Groups
ATTACH;FMTTYPE=image/jpeg:https://effinghamcornerstone.net/wp-content/uploads/2023/05/Text-softball-to-833-457-2124.jpg
END:VEVENT
BEGIN:VEVENT
DTSTART;TZID=America/Chicago:20230212T090000
DTEND;TZID=America/Chicago:20230212T100000
DTSTAMP:20260423T014309
CREATED:20230206T221354Z
LAST-MODIFIED:20230630T133131Z
UID:663-1676192400-1676196000@effinghamcornerstone.net
SUMMARY:Sunday Service
DESCRIPTION:You’re invited to worship in person or online every Sunday at 9 am!  Online access is available at Youtube\, Facebook\, and at effinghamcornerstone.net. \nTo invest your time to serve Sundays please click here!
URL:https://effinghamcornerstone.net/event/sunday-service/
LOCATION:Cornerstone Church\, 3600 S. Banker Street\, Effingham\, IL\, 62401\, United States
CATEGORIES:Sunday Service
ATTACH;FMTTYPE=image/jpeg:https://effinghamcornerstone.net/wp-content/uploads/2023/02/Untitled-design-2.jpg
END:VEVENT
BEGIN:VEVENT
DTSTART;TZID=America/Chicago:20230822T180000
DTEND;TZID=America/Chicago:20230822T203000
DTSTAMP:20260423T014309
CREATED:20230621T142021Z
LAST-MODIFIED:20230621T143217Z
UID:1097-1692727200-1692736200@effinghamcornerstone.net
SUMMARY:Cornerstone Class
DESCRIPTION:You’re invited to a casual\, interactive conversation about all things Cornerstone! It’s about Who We Are\, Who We Are Trying To Be\, Why We Do What We Do\, and Where You Can Belong. Registration is required\, so Click Here to sign up today. The class is from 6:00 – 8:30 PM.
URL:https://effinghamcornerstone.net/event/cornerstone-class/
LOCATION:Cornerstone Church\, 3600 S. Banker Street\, Effingham\, IL\, 62401\, United States
CATEGORIES:Adults,Community
ATTACH;FMTTYPE=image/jpeg:https://effinghamcornerstone.net/wp-content/uploads/2023/06/Cover.jpg
ORGANIZER;CN="Cornerstone Chruch":MAILTO:admin@effinghamcornerstone.net
END:VEVENT
BEGIN:VEVENT
DTSTART;TZID=America/Chicago:20230212T090000
DTEND;TZID=America/Chicago:20230212T100000
DTSTAMP:20260423T014309
CREATED:20230206T221354Z
LAST-MODIFIED:20230630T133131Z
UID:663-1676192400-1676196000@effinghamcornerstone.net
SUMMARY:Sunday Service
DESCRIPTION:You’re invited to worship in person or online every Sunday at 9 am!  Online access is available at Youtube\, Facebook\, and at effinghamcornerstone.net. \nTo invest your time to serve Sundays please click here!
URL:https://effinghamcornerstone.net/event/sunday-service/
LOCATION:Cornerstone Church\, 3600 S. Banker Street\, Effingham\, IL\, 62401\, United States
CATEGORIES:Sunday Service
ATTACH;FMTTYPE=image/jpeg:https://effinghamcornerstone.net/wp-content/uploads/2023/02/Untitled-design-2.jpg
END:VEVENT
BEGIN:VEVENT
DTSTART;TZID=America/Chicago:20230827T100000
DTEND;TZID=America/Chicago:20230827T200000
DTSTAMP:20260423T014309
CREATED:20230727T165405Z
LAST-MODIFIED:20230727T184438Z
UID:1199-1693130400-1693166400@effinghamcornerstone.net
SUMMARY:All In Celebration
DESCRIPTION:August 27th at 10 AM \n  \nCome and enjoy worship out at Lake Sara! \nPack a cooler\, bring your lunch and make a day of it! \n\nBeach\nPlayground\nDisc golf\nMusic\nShade\nFriends\nFUN!!!
URL:https://effinghamcornerstone.net/event/all-in-celebration/
LOCATION:Lake Sarah Beach\, 15250 N Beach Rd\, Efifngham\, IL\, 62401\, United States
CATEGORIES:Community
ATTACH;FMTTYPE=image/jpeg:https://effinghamcornerstone.net/wp-content/uploads/2023/07/All-In-Graphics-3.jpg
ORGANIZER;CN="Cornerstone Chruch":MAILTO:admin@effinghamcornerstone.net
END:VEVENT
END:VCALENDAR