BEGIN:VCALENDAR
VERSION:2.0
PRODID:-//Cornerstone Church - ECPv6.14.2//NONSGML v1.0//EN
CALSCALE:GREGORIAN
METHOD:PUBLISH
X-ORIGINAL-URL:https://effinghamcornerstone.net
X-WR-CALDESC:Events for Cornerstone Church
REFRESH-INTERVAL;VALUE=DURATION:PT1H
X-Robots-Tag:noindex
X-PUBLISHED-TTL:PT1H
BEGIN:VTIMEZONE
TZID:America/Chicago
BEGIN:DAYLIGHT
TZOFFSETFROM:-0600
TZOFFSETTO:-0500
TZNAME:CDT
DTSTART:20240310T080000
END:DAYLIGHT
BEGIN:STANDARD
TZOFFSETFROM:-0500
TZOFFSETTO:-0600
TZNAME:CST
DTSTART:20241103T070000
END:STANDARD
END:VTIMEZONE
BEGIN:VEVENT
DTSTART;TZID=America/Chicago:20240116T180000
DTEND;TZID=America/Chicago:20240117T203000
DTSTAMP:20260422T170503
CREATED:20230726T184213Z
LAST-MODIFIED:20240122T160913Z
UID:958-1705428000-1705523400@effinghamcornerstone.net
SUMMARY:Rooted
DESCRIPTION:Rooted invites you to connect with God\, others\, and your purpose in unexpected\, life-changing ways. \n\n\nWhether you are curious about Jesus\, you are new to the faith\, or you have been following Jesus for years\, Rooted is for you! Registration is due by December 31st. \n\nFor more information and to register CLICK HERE! \nInterested in investing your time to serve click here.
URL:https://effinghamcornerstone.net/event/rooted/
LOCATION:Cornerstone Church\, 3600 S. Banker Street\, Effingham\, IL\, 62401\, United States
CATEGORIES:Community
ATTACH;FMTTYPE=image/jpeg:https://effinghamcornerstone.net/wp-content/uploads/2023/05/170048555_5301620866577459_8445872735719497342_n.jpg
END:VEVENT
END:VCALENDAR