BEGIN:VCALENDAR
VERSION:2.0
PRODID:-//Cornerstone Church - ECPv6.14.2//NONSGML v1.0//EN
CALSCALE:GREGORIAN
METHOD:PUBLISH
X-WR-CALNAME:Cornerstone Church
X-ORIGINAL-URL:https://effinghamcornerstone.net
X-WR-CALDESC:Events for Cornerstone Church
REFRESH-INTERVAL;VALUE=DURATION:PT1H
X-Robots-Tag:noindex
X-PUBLISHED-TTL:PT1H
BEGIN:VTIMEZONE
TZID:America/Chicago
BEGIN:DAYLIGHT
TZOFFSETFROM:-0600
TZOFFSETTO:-0500
TZNAME:CDT
DTSTART:20240310T080000
END:DAYLIGHT
BEGIN:STANDARD
TZOFFSETFROM:-0500
TZOFFSETTO:-0600
TZNAME:CST
DTSTART:20241103T070000
END:STANDARD
BEGIN:DAYLIGHT
TZOFFSETFROM:-0600
TZOFFSETTO:-0500
TZNAME:CDT
DTSTART:20250309T080000
END:DAYLIGHT
BEGIN:STANDARD
TZOFFSETFROM:-0500
TZOFFSETTO:-0600
TZNAME:CST
DTSTART:20251102T070000
END:STANDARD
END:VTIMEZONE
BEGIN:VEVENT
DTSTART;VALUE=DATE:20240324
DTEND;VALUE=DATE:20250331
DTSTAMP:20260422T071334
CREATED:20240214T155802Z
LAST-MODIFIED:20250408T154515Z
UID:1350-1711238400-1743379199@effinghamcornerstone.net
SUMMARY:Core 52
DESCRIPTION:Core 52 is for spiritual health what CrossFit is for physical fitness. In just fifteen minutes a day\, you can master the fifty-two most important passages in the Bible. Respected Bible professor and teaching pastor Mark Moore developed this proven process from thirty-five years of helping people grow deeper in God’s Word. \nBeginning March 24th\, 2024\, here at Cornerstone\, we are going to using Core 52 to help shape our sermon series over the next year. We are encouraging everyone to purchase a book and use it as a resource to help us all grow in our journey with Christ. Core 52 also provides resources for families\, small groups\, and other avenues for people to use to partner with the teaching that will be taking place on Sunday Mornings. \nBooks are available to purchase at Amazon by CLICKING HERE! \nFor resources from Core 52 CLICK HERE!
URL:https://effinghamcornerstone.net/event/core-52/
LOCATION:Cornerstone Church\, 3600 S. Banker Street\, Effingham\, IL\, 62401\, United States
ATTACH;FMTTYPE=image/jpeg:https://effinghamcornerstone.net/wp-content/uploads/2024/02/Core-52.jpg
END:VEVENT
BEGIN:VEVENT
DTSTART;TZID=America/Chicago:20240712T133000
DTEND;TZID=America/Chicago:20240712T173000
DTSTAMP:20260422T071334
CREATED:20240612T194611Z
LAST-MODIFIED:20240612T194611Z
UID:1415-1720791000-1720805400@effinghamcornerstone.net
SUMMARY:American Red Cross Blood Drive
DESCRIPTION:American Red Cross Blood Drive\nFriday\, July 12th\, 2024\, from 1:30 pm to 5:30 pm\nCornerstone Church Gym \nAppointments encouraged. Please click the link below to get started! \nPlease share to help promote this much-needed blood drive! Many thanks!!! To schedule an appointment\, please visit https://redcrossblood.org. \nTo invest your time to serve at this event\, please click here!
URL:https://effinghamcornerstone.net/event/american-red-cross-blood-drive-2/
LOCATION:Cornerstone Church\, 3600 S. Banker Street\, Effingham\, IL\, 62401\, United States
CATEGORIES:Community
ATTACH;FMTTYPE=image/png:https://effinghamcornerstone.net/wp-content/uploads/2024/06/July-12th-2024-Blood-Drive-Screen-Graphic.png
END:VEVENT
BEGIN:VEVENT
DTSTART;TZID=America/Chicago:20240715T180000
DTEND;TZID=America/Chicago:20240718T201500
DTSTAMP:20260422T071334
CREATED:20240508T142009Z
LAST-MODIFIED:20240627T183709Z
UID:1396-1721066400-1721333700@effinghamcornerstone.net
SUMMARY:Vacation Bible School 2024
DESCRIPTION:Vacation Bible School 2024 is coming nightly July 15th-18th from 6 to 8:15 pm. \nSCUBA! \nGear up for an underwater adventure where you’ll have a blast exploring how to dive deeper into a friendship with God. At Scuba VBS we will discover the deep blue alongside all of our friends! Registration is open now! \nClick here to register kids ages 3 years through 8th grade. High school and above? Click here to jump in and partner with Cornerstone to make it happen! It’s a fun-filled week for everyone!
URL:https://effinghamcornerstone.net/event/vacation-bible-school-2024/
LOCATION:IL
CATEGORIES:Community
ATTACH;FMTTYPE=image/jpeg:https://effinghamcornerstone.net/wp-content/uploads/2024/05/VBS-2024.jpg
END:VEVENT
BEGIN:VEVENT
DTSTART;TZID=America/Chicago:20240728T190000
DTEND;TZID=America/Chicago:20240728T210000
DTSTAMP:20260422T071334
CREATED:20240617T164332Z
LAST-MODIFIED:20240617T164332Z
UID:1419-1722193200-1722200400@effinghamcornerstone.net
SUMMARY:End of Summer Pool Party!
DESCRIPTION:End of Summer Pool Party!\nSunday\, July 28th\, 2024\, from 7:00 pm to 9:00 pm \nKluthe Memorial Pool 1200 N. Maple St\, Effingham\, IL 62401 \nBring a Snack and Bring a Friend!!
URL:https://effinghamcornerstone.net/event/end-of-summer-pool-party/
LOCATION:Kluthe Memorial Pool\, 1200 North Maple Street\, Effingham\, IL\, 62401\, United States
ATTACH;FMTTYPE=image/jpeg:https://effinghamcornerstone.net/wp-content/uploads/2024/06/POOL-PARTY.jpg
END:VEVENT
END:VCALENDAR