BEGIN:VCALENDAR
VERSION:2.0
PRODID:-//Cornerstone Church - ECPv6.14.2//NONSGML v1.0//EN
CALSCALE:GREGORIAN
METHOD:PUBLISH
X-WR-CALNAME:Cornerstone Church
X-ORIGINAL-URL:https://effinghamcornerstone.net
X-WR-CALDESC:Events for Cornerstone Church
REFRESH-INTERVAL;VALUE=DURATION:PT1H
X-Robots-Tag:noindex
X-PUBLISHED-TTL:PT1H
BEGIN:VTIMEZONE
TZID:America/Chicago
BEGIN:DAYLIGHT
TZOFFSETFROM:-0600
TZOFFSETTO:-0500
TZNAME:CDT
DTSTART:20240310T080000
END:DAYLIGHT
BEGIN:STANDARD
TZOFFSETFROM:-0500
TZOFFSETTO:-0600
TZNAME:CST
DTSTART:20241103T070000
END:STANDARD
BEGIN:DAYLIGHT
TZOFFSETFROM:-0600
TZOFFSETTO:-0500
TZNAME:CDT
DTSTART:20250309T080000
END:DAYLIGHT
BEGIN:STANDARD
TZOFFSETFROM:-0500
TZOFFSETTO:-0600
TZNAME:CST
DTSTART:20251102T070000
END:STANDARD
END:VTIMEZONE
BEGIN:VEVENT
DTSTART;VALUE=DATE:20240324
DTEND;VALUE=DATE:20250331
DTSTAMP:20260420T075124
CREATED:20240214T155802Z
LAST-MODIFIED:20250408T154515Z
UID:1350-1711238400-1743379199@effinghamcornerstone.net
SUMMARY:Core 52
DESCRIPTION:Core 52 is for spiritual health what CrossFit is for physical fitness. In just fifteen minutes a day\, you can master the fifty-two most important passages in the Bible. Respected Bible professor and teaching pastor Mark Moore developed this proven process from thirty-five years of helping people grow deeper in God’s Word. \nBeginning March 24th\, 2024\, here at Cornerstone\, we are going to using Core 52 to help shape our sermon series over the next year. We are encouraging everyone to purchase a book and use it as a resource to help us all grow in our journey with Christ. Core 52 also provides resources for families\, small groups\, and other avenues for people to use to partner with the teaching that will be taking place on Sunday Mornings. \nBooks are available to purchase at Amazon by CLICKING HERE! \nFor resources from Core 52 CLICK HERE!
URL:https://effinghamcornerstone.net/event/core-52/
LOCATION:Cornerstone Church\, 3600 S. Banker Street\, Effingham\, IL\, 62401\, United States
ATTACH;FMTTYPE=image/jpeg:https://effinghamcornerstone.net/wp-content/uploads/2024/02/Core-52.jpg
END:VEVENT
BEGIN:VEVENT
DTSTART;TZID=America/Chicago:20240904T183000
DTEND;TZID=America/Chicago:20240904T203000
DTSTAMP:20260420T075124
CREATED:20240805T165558Z
LAST-MODIFIED:20240821T145039Z
UID:1490-1725474600-1725481800@effinghamcornerstone.net
SUMMARY:Cornerstone Students Kick-off
DESCRIPTION:For our Cornerstone Students Kick-off\, we are doing a cookout & water activities! 6th through 12th grade students come hungry and dressed to get wet! \nWednesday nights from September through early May\, everyone from 6th through 12th grade gather together. \nThese get-togethers (from 6:30 to 8:30 pm) have the perfect balance of hang-out time\, God-time\, and grow-time. Invite a friend to come along and check it out! \nFor serve opportunities\, click here.
URL:https://effinghamcornerstone.net/event/cornerstone-students-kick-off-2/
LOCATION:Cornerstone Church\, 3600 S. Banker Street\, Effingham\, IL\, 62401\, United States
ATTACH;FMTTYPE=image/jpeg:https://effinghamcornerstone.net/wp-content/uploads/2024/08/2024-Student-Ministry-Kick-Off.jpg
END:VEVENT
BEGIN:VEVENT
DTSTART;TZID=America/Chicago:20240908T180000
DTEND;TZID=America/Chicago:20240908T203000
DTSTAMP:20260420T075124
CREATED:20240723T141424Z
LAST-MODIFIED:20240819T183107Z
UID:1453-1725818400-1725827400@effinghamcornerstone.net
SUMMARY:Rooted
DESCRIPTION:Rooted invites you to connect with God\, others\, and your purpose in unexpected\, life-changing ways. \n\n\nWhether you are curious about Jesus\, you are new to the faith\, or you have been following Jesus for years\, Rooted is for you! Registration is due by August 25th. \n\nFor more information and to register CLICK HERE! \nInterested in investing your time to serve click here.
URL:https://effinghamcornerstone.net/event/rooted-2/
LOCATION:IL
ATTACH;FMTTYPE=image/jpeg:https://effinghamcornerstone.net/wp-content/uploads/2024/07/Untitled-design.jpg
END:VEVENT
END:VCALENDAR