BEGIN:VCALENDAR
VERSION:2.0
PRODID:-//Cornerstone Church - ECPv6.14.2//NONSGML v1.0//EN
CALSCALE:GREGORIAN
METHOD:PUBLISH
X-ORIGINAL-URL:https://effinghamcornerstone.net
X-WR-CALDESC:Events for Cornerstone Church
REFRESH-INTERVAL;VALUE=DURATION:PT1H
X-Robots-Tag:noindex
X-PUBLISHED-TTL:PT1H
BEGIN:VTIMEZONE
TZID:America/Chicago
BEGIN:DAYLIGHT
TZOFFSETFROM:-0600
TZOFFSETTO:-0500
TZNAME:CDT
DTSTART:20240310T080000
END:DAYLIGHT
BEGIN:STANDARD
TZOFFSETFROM:-0500
TZOFFSETTO:-0600
TZNAME:CST
DTSTART:20241103T070000
END:STANDARD
BEGIN:DAYLIGHT
TZOFFSETFROM:-0600
TZOFFSETTO:-0500
TZNAME:CDT
DTSTART:20250309T080000
END:DAYLIGHT
BEGIN:STANDARD
TZOFFSETFROM:-0500
TZOFFSETTO:-0600
TZNAME:CST
DTSTART:20251102T070000
END:STANDARD
END:VTIMEZONE
BEGIN:VEVENT
DTSTART;VALUE=DATE:20240324
DTEND;VALUE=DATE:20250331
DTSTAMP:20260422T041358
CREATED:20240214T155802Z
LAST-MODIFIED:20250408T154515Z
UID:1350-1711238400-1743379199@effinghamcornerstone.net
SUMMARY:Core 52
DESCRIPTION:Core 52 is for spiritual health what CrossFit is for physical fitness. In just fifteen minutes a day\, you can master the fifty-two most important passages in the Bible. Respected Bible professor and teaching pastor Mark Moore developed this proven process from thirty-five years of helping people grow deeper in God’s Word. \nBeginning March 24th\, 2024\, here at Cornerstone\, we are going to using Core 52 to help shape our sermon series over the next year. We are encouraging everyone to purchase a book and use it as a resource to help us all grow in our journey with Christ. Core 52 also provides resources for families\, small groups\, and other avenues for people to use to partner with the teaching that will be taking place on Sunday Mornings. \nBooks are available to purchase at Amazon by CLICKING HERE! \nFor resources from Core 52 CLICK HERE!
URL:https://effinghamcornerstone.net/event/core-52/
LOCATION:Cornerstone Church\, 3600 S. Banker Street\, Effingham\, IL\, 62401\, United States
ATTACH;FMTTYPE=image/jpeg:https://effinghamcornerstone.net/wp-content/uploads/2024/02/Core-52.jpg
END:VEVENT
BEGIN:VEVENT
DTSTART;TZID=America/Chicago:20250207T153000
DTEND;TZID=America/Chicago:20250207T203000
DTSTAMP:20260422T041358
CREATED:20250114T183624Z
LAST-MODIFIED:20250114T183827Z
UID:1669-1738942200-1738960200@effinghamcornerstone.net
SUMMARY:2025 Men's Night @ Oil Belt Camp
DESCRIPTION:It’s going to be a night full of worship\, encouragement\, and fellowship. The theme is Get in the Game. Featuring speaker Tim Harlow\, retired senior pastor\, from Parkview Christian Church\, Orland Park\, IL. Worship will be led by Cornerstone Christian Church of Shiloh! \nPre-Register by Friday\, January 31st. \nThis event is on Friday\, February 7th. \nDoors open at 3:30 PM \nPre-session begin at 4:00 PM \nSupper at 5:30 PM \nWorship at 7:00 PM \nRegister here!
URL:https://effinghamcornerstone.net/event/2025-mens-night-oil-belt-camp/
LOCATION:Oil Belt Christian Service Camp\, 555 Park Rd\, Flora\, IL\, 62839\, United States
ATTACH;FMTTYPE=image/jpeg:https://effinghamcornerstone.net/wp-content/uploads/2024/12/prepost-service-.jpg
END:VEVENT
BEGIN:VEVENT
DTSTART;VALUE=DATE:20250209
DTEND;VALUE=DATE:20250210
DTSTAMP:20260422T041358
CREATED:20250110T174423Z
LAST-MODIFIED:20250115T160417Z
UID:1715-1739059200-1739145599@effinghamcornerstone.net
SUMMARY:'SOUPER' Bowl Canned Food Drive
DESCRIPTION:Cornerstone will be collecting any and all types of CANNED FOOD items up until Sunday\, February 9th to support local food banks.
URL:https://effinghamcornerstone.net/event/souper-bowl-canned-food-drive/
LOCATION:Cornerstone Church\, 3600 S. Banker Street\, Effingham\, IL\, 62401\, United States
CATEGORIES:Community
ATTACH;FMTTYPE=image/jpeg:https://effinghamcornerstone.net/wp-content/uploads/2025/01/SOUPER-BOWL-SUNDAY.jpg
END:VEVENT
BEGIN:VEVENT
DTSTART;TZID=America/Chicago:20250216T170000
DTEND;TZID=America/Chicago:20250217T110000
DTSTAMP:20260422T041358
CREATED:20241230T160035Z
LAST-MODIFIED:20250115T160315Z
UID:1647-1739725200-1739790000@effinghamcornerstone.net
SUMMARY:2025 High School Retreat @ Oil Belt Camp
DESCRIPTION:February 16th – 17th\, 5:00 PM – 11:00 AM \n\n\nWe will leave at 4:15 PM and head as a group to Oil Belt Camp. \n\n\nThe Retreat ends at 11:00 AM at Oil Belt Camp. You can either pick up your student at Oil Belt Camp or pick them up at Cornerstone around 11:45 AM because we will drive back as a group too. \n\n\nThe cost is $30. Registration will be due by Wednesday\, February 5th. \nFor more information and to register CLICK HERE!
URL:https://effinghamcornerstone.net/event/high-school-retreat-oil-belt-camp-2/
LOCATION:Oil Belt Christian Service Camp\, 555 Park Rd\, Flora\, IL\, 62839\, United States
CATEGORIES:Community
ATTACH;FMTTYPE=image/jpeg:https://effinghamcornerstone.net/wp-content/uploads/2024/12/image-for-website-upcoming-events.jpg
END:VEVENT
END:VCALENDAR